BEGIN:VCALENDAR
VERSION:2.0
PRODID:-//ChamberMaster//Event Calendar 2.0//EN
METHOD:PUBLISH
X-PUBLISHED-TTL:P1H
REFRESH-INTERVAL:P1H
CALSCALE:GREGORIAN
BEGIN:VTIMEZONE
TZID:America/New_York
BEGIN:DAYLIGHT
RRULE:FREQ=YEARLY;BYMONTH=3;BYDAY=2SU
DTSTART:20070101T000000
TZOFFSETFROM:-0500
TZOFFSETTO:-0400
TZNAME:Eastern Daylight Time
END:DAYLIGHT
BEGIN:STANDARD
RRULE:FREQ=YEARLY;BYMONTH=11;BYDAY=1SU
DTSTART:20070101T000000
TZOFFSETFROM:-0400
TZOFFSETTO:-0500
TZNAME:Eastern Standard Time
END:STANDARD
END:VTIMEZONE
BEGIN:VEVENT
DTSTART;TZID=America/New_York:20260415T100000
DTEND;TZID=America/New_York:20260415T123000
X-MICROSOFT-CDO-ALLDAYEVENT:FALSE
SUMMARY:OS Re-Entry Simulation
DESCRIPTION:Community Re-Entry Simulation: Rebuilding lives and communities after incarceration. \nGain a deeper understanding of the significant obstacles individuals face when navigating life after incarceration and returning to their communities. \n\nThis re-entry is a for the Cadillac Leadership Class and a few other Business partners to gain a better understanding.
X-ALT-DESC;FMTTYPE=text/html:Community Re-Entry Simulation: Rebuilding lives and communities after incarceration. \nGain a deeper understanding of the significant obstacles individuals face when navigating life after incarceration and returning to their communities. \n\nThis re-entry is a for the Cadillac Leadership Class and a few other Business partners to gain a better understanding.
LOCATION:9901 E. 13TH ST Cadillac 49601
UID:e.2218.1417251
SEQUENCE:3
DTSTAMP:20260421T135449Z
URL:https://business.cadillac.org/events/Details/os-re-entry-simulation-1675249?sourceTypeId=Hub
END:VEVENT
END:VCALENDAR
